{"text_format":"1","workbook":"xlsx","n_sheets":5,"sheets":["【入力例】","【入力フォーム】","【提出書類】（ＦＡＸ申込プリントアウト用）","区役所控（不要）","申請者控（不要）"],"not_rendered":{"charts":0,"images":3,"macros":1,"external_links":0,"defined_names":3,"comments":1,"pivot_tables":0},"unopened":[],"bounds":{"document_bytes":16777216,"sheet_cells":100000,"rows_first":2000,"rows_last":500,"rows_between":2000,"halvings":0,"cell_chars":16384,"cell_head_chars":4096},"cells_cut":0,"cells_raw":0,"read":"whole","date_system":"1900"}

{"sheet":"【入力例】","index":0,"n_rows":66,"n_cols":21,"rows_kept":66,"cut":false,"hidden":false,"merged":[[9,1,9,7],[0,0,0,7],[2,1,2,7],[4,0,4,7],[7,1,7,7],[8,1,8,7],[20,0,22,0],[20,1,20,7],[21,2,21,7],[22,2,22,7],[10,1,10,7],[12,0,13,0],[12,1,12,2],[12,3,12,7],[13,1,13,7],[14,1,14,7],[15,1,15,7],[16,0,17,0],[16,1,16,7],[17,2,17,7],[19,1,19,7],[23,1,23,7],[24,1,24,7],[25,1,25,7],[27,0,27,7],[28,0,29,0],[28,6,28,7],[29,6,29,7],[28,1,29,1],[39,1,39,7],[30,1,30,7],[31,1,31,7],[32,1,32,2],[32,4,32,5],[32,6,32,7],[33,1,33,7],[35,0,35,7],[36,0,37,0],[36,6,36,7],[37,6,37,7],[38,1,38,7],[36,1,37,1],[48,1,48,2],[48,4,48,5],[48,6,48,7],[40,1,40,2],[40,4,40,5],[40,6,40,7],[41,1,41,7],[42,6,42,7],[43,0,43,7],[44,0,45,0],[44,6,44,7],[45,6,45,7],[46,1,46,7],[47,1,47,7],[44,1,45,1],[59,0,59,7],[49,1,49,7],[51,0,51,7],[52,0,53,0],[52,6,52,7],[53,6,53,7],[54,1,54,7],[55,1,55,7],[56,1,56,2],[56,4,56,5],[56,6,56,7],[57,1,57,7],[52,1,53,1],[65,1,65,7],[60,0,61,0],[60,6,60,7],[61,6,61,7],[62,1,62,7],[63,1,63,7],[64,1,64,2],[64,4,64,5],[64,6,64,7],[60,1,61,1]]}
["貸室申請書作成ツール",null,null,null,null,null,null,null,null,null,null,null,null,null,null,null,null,null,"明治","午前","有"]
[null,null,null,null,null,null,null,null,null,null,null,null,null,null,null,null,null,null,"大正","午後","無"]
["利用施設","浪速区民センター",null,null,null,null,null,null,null,null,null,null,null,null,null,null,null,null,"昭和","夜間"]
[null,null,null,null,null,null,null,null,null,null,null,null,null,null,null,null,null,null,"平成","午前午後"]
["申請者情報",null,null,null,null,null,null,null,null,null,null,null,null,null,null,null,null,null,"西暦","午後夜間"]
["申請日","西暦",2019,"年",1,"月",10,"日",null,null,null,null,null,null,null,null,null,null,null,"全日"]
[]
["フリガナ","オオサカシコミュニティキョウカイ"]
["団体名","大阪市コミュニティ協会"]
["フリガナ","オオサカ　ハナコ"]
["代表者氏名","大阪　花子"]
["代表者\n生年月日","昭和",50,"年",4,"月",1,"日"]
["団体所在地","〒",null,"543-0021"]
[null,"大阪市〇〇区〇〇１－１－１"]
["電話番号","０６－〇〇〇〇－〇〇〇〇"]
["FAX番号","０６－〇〇〇〇－〇〇〇〇"]
["申請者"]
[null,null,"代表者と同じ",null,null,null,null,null,true]
["申請者\n生年月日",null,null,"年",null,"月",null,"日"]
["申請者\n電話番号"]
["当日責任者"]
[null,null,"代表者と同じ",null,null,null,null,null,true]
[null,null,"申請者と同じ"]
["当日責任者\n電話番号"]
["行事名称","〇〇チーム　勉強会"]
["行事内容","社内勉強会"]
[]
["予　　約　　①"]
["利用日","西暦","年","月","日","曜日","開始時間"]
[null,null,2019,4,5,{"$f":"K30","v":"金"},"14:00:00",null,null,{"$f":"IF(OR(C30=\"\",D30=\"\",E30=\"\"),\"\",DATE(C30,D30,E30))","v":"2019-04-05"},{"$f":"IF(J30=\"\",\"\",TEXT(WEEKDAY(J30,1),\"aaa\"))","v":"金"}]
["利用時間","午後夜間"]
["室名","第１・２会議室"]
["利用人員",40,null,"名","入場料",null,"無"]
["附属設備・備考","プロジェクター（パソコンとつなぎます）"]
[]
["予　　約　　②"]
["利用日","西暦","年","月","日","曜日","開始時間"]
[null,null,2019,6,3,{"$f":"K38","v":"月"},"14:00:00",null,null,{"$f":"IF(OR(C38=\"\",D38=\"\",E38=\"\"),\"\",DATE(C38,D38,E38))","v":"2019-06-03"},{"$f":"IF(J38=\"\",\"\",TEXT(WEEKDAY(J38,1),\"aaa\"))","v":"月"}]
["利用時間","午後"]
["室名","第１会議室"]
["利用人員",20,null,"名","入場料",null,"無"]
["附属設備・備考","プロジェクター（パソコンとつなぎます）"]
[]
["予　　約　　③"]
["利用日","西暦","年","月","日","曜日","開始時間"]
[null,null,2019,7,4,{"$f":"K46","v":"木"},"17:30:00",null,null,{"$f":"IF(OR(C46=\"\",D46=\"\",E46=\"\"),\"\",DATE(C46,D46,E46))","v":"2019-07-04"},{"$f":"IF(J46=\"\",\"\",TEXT(WEEKDAY(J46,1),\"aaa\"))","v":"木"}]
["利用時間","夜間"]
["室名","第２会議室"]
["利用人員",20,null,"名","入場料",null,"無"]
["附属設備・備考","プロジェクター（パソコンとつなぎます）"]
[]
["予　　約　　④"]
["利用日","西暦","年","月","日","曜日","開始時間"]
[null,null,null,null,null,{"$f":"K54","v":""},null,null,null,{"$f":"IF(OR(C54=\"\",D54=\"\",E54=\"\"),\"\",DATE(C54,D54,E54))","v":""},{"$f":"IF(J54=\"\",\"\",TEXT(WEEKDAY(J54,1),\"aaa\"))","v":""}]
["利用時間"]
["室名"]
["利用人員",null,null,"名","入場料"]
["附属設備・備考"]
[]
["予　　約　　⑤"]
["利用日","西暦","年","月","日","曜日","開始時間"]
[null,null,null,null,null,{"$f":"K62","v":""},null,null,null,{"$f":"IF(OR(C62=\"\",D62=\"\",E62=\"\"),\"\",DATE(C62,D62,E62))","v":""},{"$f":"IF(J62=\"\",\"\",TEXT(WEEKDAY(J62,1),\"aaa\"))","v":""}]
["利用時間"]
["室名"]
["利用人員",null,null,"名","入場料"]
["附属設備・備考"]

{"sheet":"【入力フォーム】","index":1,"n_rows":66,"n_cols":21,"rows_kept":66,"cut":false,"hidden":false,"merged":[[60,0,61,0],[60,6,60,7],[61,6,61,7],[54,1,54,7],[65,1,65,7],[63,1,63,7],[64,1,64,2],[64,4,64,5],[64,6,64,7],[60,1,61,1],[62,1,62,7],[55,1,55,7],[56,1,56,2],[56,4,56,5],[56,6,56,7],[57,1,57,7],[59,0,59,7],[31,1,31,7],[40,6,40,7],[33,1,33,7],[35,0,35,7],[36,0,37,0],[36,6,36,7],[37,6,37,7],[39,1,39,7],[40,1,40,2],[36,1,37,1],[43,0,43,7],[49,1,49,7],[44,0,45,0],[32,4,32,5],[32,6,32,7],[32,1,32,2],[47,1,47,7],[38,1,38,7],[42,6,42,7],[44,1,45,1],[40,4,40,5],[41,1,41,7],[44,6,44,7],[45,6,45,7],[51,0,51,7],[52,0,53,0],[52,6,52,7],[53,6,53,7],[46,1,46,7],[48,1,48,2],[48,4,48,5],[48,6,48,7],[52,1,53,1],[9,1,9,7],[10,1,10,7],[16,1,16,7],[23,1,23,7],[19,1,19,7],[21,2,21,7],[22,2,22,7],[27,0,27,7],[28,0,29,0],[29,6,29,7],[28,6,28,7],[20,1,20,7],[28,1,29,1],[20,0,22,0],[30,1,30,7],[0,0,0,7],[4,0,4,7],[8,1,8,7],[7,1,7,7],[12,3,12,7],[2,1,2,7],[16,0,17,0],[17,2,17,7],[12,0,13,0],[13,1,13,7],[12,1,12,2],[15,1,15,7],[14,1,14,7],[24,1,24,7],[25,1,25,7]]}
["貸室申請書作成ツール",null,null,null,null,null,null,null,null,null,null,null,null,null,null,null,null,"明治","午前","9：30～12：30","有"]
[null,null,null,null,null,null,null,null,null,null,null,null,null,null,null,null,null,"大正","午後","13：00～17：00","無"]
["利用施設","浪速区民センター",null,null,null,null,null,null,null,null,null,null,null,null,null,null,null,"昭和","夜間","17：30～21：30"]
[null,null,null,null,null,null,null,null,null,null,null,null,null,null,null,null,null,"平成","午前午後","9：30～17：00"]
["申請者情報",null,null,null,null,null,null,null,null,null,null,null,null,null,null,null,null,null,"午後夜間","13：00～21：30"]
["申請日","西暦",null,"年",null,"月",null,"日",{"$f":"IF(C6=\"\",\"未入力\",IF(E6=\"\",\"未入力\",IF(G6=\"\",\"未入力\",\"\")))","v":"未入力"},{"$f":"IF(OR(C6=\"\",E6=\"\",G6=\"\"),\"\",DATE(C6,E6,G6))","v":""},{"$f":"IF(J6=\"\",\"\",TEXT(WEEKDAY(J6,1),\"aaa\"))","v":""},null,null,null,null,null,null,"西暦","全日","9：30～21：30"]
[]
["フリガナ",null,null,null,null,null,null,null,{"$f":"IF(B8=\"\",\"未入力\",\"\")","v":"未入力"}]
["団体名",null,null,null,null,null,null,null,{"$f":"IF(B9=\"\",\"未入力\",\"\")","v":"未入力"}]
["フリガナ",null,null,null,null,null,null,null,{"$f":"IF(B10=\"\",\"未入力\",\"\")","v":"未入力"}]
["代表者氏名",null,null,null,null,null,null,null,{"$f":"IF(B11=\"\",\"未入力\",\"\")","v":"未入力"}]
["代表者\n生年月日",null,null,"年",null,"月",null,"日"]
["団体所在地","〒",null,null,null,null,null,null,{"$f":"IF(D13=\"\",\"未入力\",\"\")","v":"未入力"}]
[null,null,null,null,null,null,null,null,{"$f":"IF(B14=\"\",\"未入力\",\"\")","v":"未入力"}]
["電話番号",null,null,null,null,null,null,null,{"$f":"IF(B15=\"\",\"未入力\",\"\")","v":"未入力"}]
["※返信先\nFAX番号",null,null,null,null,null,null,null,{"$f":"IF(B16=\"\",\"未入力\",\"\")","v":"未入力"}]
["申請者",null,null,null,null,null,null,null,{"$f":"IF(B17=\"\",IF(I18=FALSE,\"未入力\",\"\"),\"\")","v":"未入力"}]
[null,null,"代表者と同じ"]
["申請者\n生年月日",null,null,"年",null,"月",null,"日"]
["申請者\n電話番号",null,null,null,null,null,null,null,{"$f":"IF(B20=\"\",\"未入力\",\"\")","v":"未入力"}]
["当日責任者",null,null,null,null,null,null,null,{"$f":"IF(B21=\"\",IF(I22=FALSE,IF(I23=FALSE,\"未入力\",\"\"),\"\"),\"\")","v":"未入力"}]
[null,null,"代表者と同じ"]
[null,null,"申請者と同じ"]
["当日責任者\n電話番号",null,null,null,null,null,null,null,{"$f":"IF(B24=\"\",\"未入力\",\"\")","v":"未入力"}]
["行事名称",null,null,null,null,null,null,null,{"$f":"IF(B25=\"\",\"未入力\",\"\")","v":"未入力"}]
["行事内容",null,null,null,null,null,null,null,{"$f":"IF(B26=\"\",\"未入力\",\"\")","v":"未入力"}]
[]
["予　　約　　①"]
["利用日","西暦","年","月","日","曜日","開始時間",null,null,"利用日①","曜日"]
[null,null,null,null,null,{"$f":"K30","v":""},null,null,{"$f":"IF(C30=\"\",\"未入力\",IF(D30=\"\",\"未入力\",IF(E30=\"\",\"未入力\",IF(F30=\"\",\"未入力\",IF(G30=\"\",\"未入力\",\"\")))))","v":"未入力"},{"$f":"IF(OR(C30=\"\",D30=\"\",E30=\"\"),\"\",DATE(C30,D30,E30))","v":""},{"$f":"IF(J30=\"\",\"\",TEXT(WEEKDAY(J30,1),\"aaa\"))","v":""}]
["利用時間",null,null,null,null,null,null,null,{"$f":"IF(B31=\"\",\"未入力\",\"\")","v":"未入力"}]
["室名",null,null,null,null,null,null,null,{"$f":"IF(B32=\"\",\"未入力\",\"\")","v":"未入力"}]
["利用人員",null,null,"名","入場料",null,null,null,{"$f":"IF(B33=\"\",\"未入力\",IF(G33=\"\",\"未入力\",\"\"))","v":"未入力"}]
["附属設備・備考",null,null,null,null,null,null,null,{"$f":"IF(B34=\"\",\"未入力\",\"\")","v":"未入力"}]
[]
["予　　約　　②"]
["利用日","西暦","年","月","日","曜日","開始時間",null,null,"利用日②","曜日"]
[null,null,null,null,null,{"$f":"K38","v":""},null,null,{"$f":"IF(C38=\"\",\"未入力\",IF(D38=\"\",\"未入力\",IF(E38=\"\",\"未入力\",IF(F38=\"\",\"未入力\",IF(G38=\"\",\"未入力\",\"\")))))","v":"未入力"},{"$f":"IF(OR(C38=\"\",D38=\"\",E38=\"\"),\"\",DATE(C38,D38,E38))","v":""},{"$f":"IF(J38=\"\",\"\",TEXT(WEEKDAY(J38,1),\"aaa\"))","v":""}]
["利用時間",null,null,null,null,null,null,null,{"$f":"IF(B39=\"\",\"未入力\",\"\")","v":"未入力"}]
["室名",null,null,null,null,null,null,null,{"$f":"IF(B40=\"\",\"未入力\",\"\")","v":"未入力"}]
["利用人員",null,null,"名","入場料",null,null,null,{"$f":"IF(B41=\"\",\"未入力\",IF(G41=\"\",\"未入力\",\"\"))","v":"未入力"}]
["附属設備・備考",null,null,null,null,null,null,null,{"$f":"IF(B42=\"\",\"未入力\",\"\")","v":"未入力"}]
[]
["予　　約　　③"]
["利用日","西暦","年","月","日","曜日","開始時間",null,null,"利用日③","曜日"]
[null,null,null,null,null,{"$f":"K46","v":""},null,null,{"$f":"IF(C46=\"\",\"未入力\",IF(D46=\"\",\"未入力\",IF(E46=\"\",\"未入力\",IF(F46=\"\",\"未入力\",IF(G46=\"\",\"未入力\",\"\")))))","v":"未入力"},{"$f":"IF(OR(C46=\"\",D46=\"\",E46=\"\"),\"\",DATE(C46,D46,E46))","v":""},{"$f":"IF(J46=\"\",\"\",TEXT(WEEKDAY(J46,1),\"aaa\"))","v":""}]
["利用時間",null,null,null,null,null,null,null,{"$f":"IF(B47=\"\",\"未入力\",\"\")","v":"未入力"}]
["室名",null,null,null,null,null,null,null,{"$f":"IF(B48=\"\",\"未入力\",\"\")","v":"未入力"}]
["利用人員",null,null,"名","入場料",null,null,null,{"$f":"IF(B49=\"\",\"未入力\",IF(G49=\"\",\"未入力\",\"\"))","v":"未入力"}]
["附属設備・備考",null,null,null,null,null,null,null,{"$f":"IF(B50=\"\",\"未入力\",\"\")","v":"未入力"}]
[]
["予　　約　　④"]
["利用日","西暦","年","月","日","曜日","開始時間",null,null,"利用日④","曜日"]
[null,null,null,null,null,{"$f":"K54","v":""},null,null,{"$f":"IF(C54=\"\",\"未入力\",IF(D54=\"\",\"未入力\",IF(E54=\"\",\"未入力\",IF(F54=\"\",\"未入力\",IF(G54=\"\",\"未入力\",\"\")))))","v":"未入力"},{"$f":"IF(OR(C54=\"\",D54=\"\",E54=\"\"),\"\",DATE(C54,D54,E54))","v":""},{"$f":"IF(J54=\"\",\"\",TEXT(WEEKDAY(J54,1),\"aaa\"))","v":""}]
["利用時間",null,null,null,null,null,null,null,{"$f":"IF(B55=\"\",\"未入力\",\"\")","v":"未入力"}]
["室名",null,null,null,null,null,null,null,{"$f":"IF(B56=\"\",\"未入力\",\"\")","v":"未入力"}]
["利用人員",null,null,"名","入場料",null,null,null,{"$f":"IF(B57=\"\",\"未入力\",IF(G57=\"\",\"未入力\",\"\"))","v":"未入力"}]
["附属設備・備考",null,null,null,null,null,null,null,{"$f":"IF(B58=\"\",\"未入力\",\"\")","v":"未入力"}]
[]
["予　　約　　⑤"]
["利用日","西暦","年","月","日","曜日","開始時間",null,null,"利用日⑤","曜日"]
[null,null,null,null,null,{"$f":"K62","v":""},null,null,{"$f":"IF(C62=\"\",\"未入力\",IF(D62=\"\",\"未入力\",IF(E62=\"\",\"未入力\",IF(F62=\"\",\"未入力\",IF(G62=\"\",\"未入力\",\"\")))))","v":"未入力"},{"$f":"IF(OR(C62=\"\",D62=\"\",E62=\"\"),\"\",DATE(C62,D62,E62))","v":""},{"$f":"IF(J62=\"\",\"\",TEXT(WEEKDAY(J62,1),\"aaa\"))","v":""}]
["利用時間",null,null,null,null,null,null,null,{"$f":"IF(B63=\"\",\"未入力\",\"\")","v":"未入力"}]
["室名",null,null,null,null,null,null,null,{"$f":"IF(B64=\"\",\"未入力\",\"\")","v":"未入力"}]
["利用人員",null,null,"名","入場料",null,null,null,{"$f":"IF(B65=\"\",\"未入力\",IF(G65=\"\",\"未入力\",\"\"))","v":"未入力"}]
["附属設備・備考",null,null,null,null,null,null,null,{"$f":"IF(B66=\"\",\"未入力\",\"\")","v":"未入力"}]

{"sheet":"【提出書類】（ＦＡＸ申込プリントアウト用）","index":2,"n_rows":56,"n_cols":41,"rows_kept":56,"cut":false,"hidden":false,"merged":[[55,30,56,33],[55,34,56,40],[29,0,29,2],[32,0,32,2],[35,0,35,2],[38,0,38,2],[41,0,41,2],[41,22,43,24],[41,25,43,25],[52,11,52,15],[52,6,52,10],[52,1,52,5],[41,8,43,10],[42,4,42,5],[41,28,43,40],[41,26,43,27],[43,0,43,2],[43,3,43,7],[42,6,42,7],[41,11,43,21],[1,13,2,28],[0,0,0,40],[40,0,40,2],[39,6,39,7],[37,0,37,2],[37,3,37,7],[38,25,40,25],[35,28,37,40],[39,4,39,5],[33,4,33,5],[3,28,3,30],[3,31,3,33],[35,11,37,21],[32,11,34,21],[32,8,34,10],[35,8,37,10],[38,28,40,40],[38,26,40,27],[40,3,40,7],[36,4,36,5],[36,6,36,7],[38,22,40,24],[38,8,40,10],[38,11,40,21],[10,8,10,11],[19,8,21,11],[14,12,15,27],[11,8,12,11],[11,12,12,27],[13,8,15,11],[32,22,34,24],[8,8,9,11],[14,29,14,30],[8,12,9,40],[16,38,16,39],[24,14,25,40],[23,8,23,13],[29,8,31,10],[28,28,28,40],[29,26,31,27],[32,25,34,25],[24,8,25,13],[29,22,31,24],[29,28,31,40],[32,26,34,27],[3,38,3,39],[3,35,3,36],[20,31,20,39],[16,29,16,32],[19,12,21,27],[13,29,13,30],[5,0,5,40],[33,6,33,7],[30,6,30,7],[28,0,28,7],[31,3,31,7],[31,0,31,2],[22,0,25,7],[7,12,7,40],[10,12,10,27],[11,38,11,39],[30,4,30,5],[13,13,13,27],[28,26,28,27],[28,22,28,25],[22,8,22,13],[22,14,23,40],[11,29,11,32],[7,8,7,11],[7,0,12,7],[13,1,15,6],[46,30,53,40],[46,0,46,29],[16,8,18,11],[13,31,13,39],[14,31,14,39],[49,0,50,1],[16,12,18,27],[29,25,31,25],[29,11,31,21],[28,11,28,21],[20,29,20,30],[34,0,34,2],[34,3,34,7],[28,8,28,10],[17,29,17,30],[35,26,37,27],[35,22,37,24],[35,25,37,25],[18,29,18,30],[18,31,18,39],[17,31,17,39],[32,28,34,40]]}
["浪速区民センター　FAX:06-6568-3171"]
[null,null,null,null,null,null,null,null,null,null,null,null,null,"区役所附設会館使用申込書"]
[]
["（一財）大阪市コミュニティ協会　理事長　様",null,null,null,null,null,null,null,null,null,null,null,null,null,null,null,null,null,null,null,null,null,null,null,null,null,null,null,{"$f":"IF(【入力フォーム】!B6=\"\",\"\",【入力フォーム】!B6)","v":"西暦"},null,null,{"$f":"IF(【入力フォーム】!C6=\"\",\"\",【入力フォーム】!C6)","v":""},null,null,"年",{"$f":"IF(【入力フォーム】!E6=\"\",\"\",【入力フォーム】!E6)","v":""},null,"月",{"$f":"IF(【入力フォーム】!G6=\"\",\"\",【入力フォーム】!G6)","v":""},null,"日"]
[]
["　次のとおり浪速区民センターの使用を申込みます。使用にあたっては、管理上の規定を守るとともに、使用中に発生した一切の責任は当方において負います。なお、申込内容と使用内容が異なると認められる場合使用許可を取り消されても、異議ありません。"]
[]
["団体　・　個人",null,null,null,null,null,null,null,"フリガナ",null,null,null,{"$f":"【入力フォーム】!B8","v":0}]
[null,null,null,null,null,null,null,null,"名　称",null,null,null,{"$f":"【入力フォーム】!B9","v":0}]
[]
[null,null,null,null,null,null,null,null,"フリガナ",null,null,null,{"$f":"【入力フォーム】!B10","v":0}]
[null,null,null,null,null,null,null,null,"代表者氏名",null,null,null,{"$f":"【入力フォーム】!B11","v":0},null,null,null,null,null,null,null,null,null,null,null,null,null,null,null,"（",{"$f":"【入力フォーム】!B12","v":0},null,null,null,{"$f":"【入力フォーム】!C12","v":0},"年",{"$f":"【入力フォーム】!E12","v":0},"月",{"$f":"【入力フォーム】!G12","v":0},"日生",null,"）"]
[]
[null,"名称は、「領収書」の宛名になります",null,null,null,null,null,null,"所在地",null,null,null,"〒",{"$f":"【入力フォーム】!D13","v":0},null,null,null,null,null,null,null,null,null,null,null,null,null,null,"（","電話",null,{"$f":"【入力フォーム】!B15","v":0},null,null,null,null,null,null,null,null,"）"]
[null,null,null,null,null,null,null,null,null,null,null,null,{"$f":"【入力フォーム】!B14","v":0},null,null,null,null,null,null,null,null,null,null,null,null,null,null,null,"（","FAX",null,{"$f":"【入力フォーム】!B16","v":0},null,null,null,null,null,null,null,null,"）"]
[null,null,null,null,null,null,null,null,null,null,null,null,null,null,null,null,null,null,null,null,null,null,null,null,null,null,null,null,null,null,"※返信用FAX番号"]
["申 請 者",null,null,null,null,null,null,null,"氏　名",null,null,null,{"$f":"【入力フォーム】!B17","v":0},null,null,null,null,null,null,null,null,null,null,null,null,null,null,null,"（",{"$f":"【入力フォーム】!B19","v":0},null,null,null,{"$f":"【入力フォーム】!C19","v":0},"年",{"$f":"【入力フォーム】!E19","v":0},"月",{"$f":"【入力フォーム】!G19","v":0},"日生",null,"）"]
[null,"代表者と同じ",null,null,null,null,null,null,null,null,null,null,null,null,null,null,null,null,null,null,null,null,null,null,null,null,null,null,"（","電話",null,{"$f":"【入力フォーム】!B20","v":0},null,null,null,null,null,null,null,null,"）"]
[]
["当日責任者",null,null,null,null,null,null,null,"氏　名",null,null,null,{"$f":"【入力フォーム】!B21","v":0}]
[null,"代表者と同じ",null,null,null,null,null,null,null,null,null,null,null,null,null,null,null,null,null,null,null,null,null,null,null,null,null,null,"（","電話",null,{"$f":"【入力フォーム】!B24","v":0},null,null,null,null,null,null,null,null,"）"]
[null,"申請者と同じ"]
["使用目的",null,null,null,null,null,null,null,"行　事　名　称",null,null,null,null,null,{"$f":"【入力フォーム】!B25","v":0}]
[null,null,null,null,null,null,null,null,"（案内板の表示名称）"]
[null,null,null,null,null,null,null,null,"内　　　　容",null,null,null,null,null,{"$f":"【入力フォーム】!B26","v":0}]
[]
[null,"※使用時間について"]
[null,null,"【午前】午前9時30分～午後0時30分",null,null,null,null,null,null,null,null,null,null,null,null,null,"【午後】午後1時～午後5時",null,null,null,null,null,null,null,null,null,null,"【夜間】午後5時30分～午後9時30分"]
["使用年月日",null,null,null,null,null,null,null,"使用時間",null,null,"使用室名",null,null,null,null,null,null,null,null,null,null,"使用人員",null,null,null,"入場料",null,"附属設備・備考"]
[{"$f":"【入力フォーム】!C30","v":0},null,null,"年",{"$f":"【入力フォーム】!D30","v":0},"月",{"$f":"【入力フォーム】!E30","v":0},"日",{"$f":"【入力フォーム】!B31","v":0},null,null,{"$f":"【入力フォーム】!B32","v":0},null,null,null,null,null,null,null,null,null,null,{"$f":"【入力フォーム】!B33","v":0},null,null,"名",{"$f":"【入力フォーム】!G33","v":0},null,{"$f":"【入力フォーム】!B34","v":0}]
[null,null,null,"（",{"$f":"【入力フォーム】!F30","v":""},null,"曜日）"]
["開始時間",null,null,{"$f":"IF(【入力フォーム】!G30=\"\",\"\",【入力フォーム】!G30)","v":""}]
[{"$f":"【入力フォーム】!C38","v":0},null,null,"年",{"$f":"【入力フォーム】!D38","v":0},"月",{"$f":"【入力フォーム】!E38","v":0},"日",{"$f":"【入力フォーム】!B39","v":0},null,null,{"$f":"【入力フォーム】!B40","v":0},null,null,null,null,null,null,null,null,null,null,{"$f":"【入力フォーム】!B41","v":0},null,null,"名",{"$f":"【入力フォーム】!G41","v":0},null,{"$f":"【入力フォーム】!B42","v":0}]
[null,null,null,"（",{"$f":"【入力フォーム】!F38","v":""},null,"曜日）"]
["開始時間",null,null,{"$f":"IF(【入力フォーム】!G38=\"\",\"\",【入力フォーム】!G38)","v":""}]
[{"$f":"【入力フォーム】!C46","v":0},null,null,"年",{"$f":"【入力フォーム】!D46","v":0},"月",{"$f":"【入力フォーム】!E46","v":0},"日",{"$f":"【入力フォーム】!B47","v":0},null,null,{"$f":"【入力フォーム】!B48","v":0},null,null,null,null,null,null,null,null,null,null,{"$f":"【入力フォーム】!B49","v":0},null,null,"名",{"$f":"【入力フォーム】!G49","v":0},null,{"$f":"【入力フォーム】!B50","v":0}]
[null,null,null,"（",{"$f":"【入力フォーム】!F46","v":""},null,"曜日）"]
["開始時間",null,null,{"$f":"IF(【入力フォーム】!G46=\"\",\"\",【入力フォーム】!G46)","v":""}]
[{"$f":"【入力フォーム】!C54","v":0},null,null,"年",{"$f":"【入力フォーム】!D54","v":0},"月",{"$f":"【入力フォーム】!E54","v":0},"日",{"$f":"【入力フォーム】!B55","v":0},null,null,{"$f":"【入力フォーム】!B56","v":0},null,null,null,null,null,null,null,null,null,null,{"$f":"【入力フォーム】!B57","v":0},null,null,"名",{"$f":"【入力フォーム】!G57","v":0},null,{"$f":"【入力フォーム】!B58","v":0}]
[null,null,null,"（",{"$f":"【入力フォーム】!F54","v":""},null,"曜日）"]
["開始時間",null,null,{"$f":"IF(【入力フォーム】!G54=\"\",\"\",【入力フォーム】!G54)","v":""}]
[{"$f":"【入力フォーム】!C62","v":0},null,null,"年",{"$f":"【入力フォーム】!D62","v":0},"月",{"$f":"【入力フォーム】!E62","v":0},"日",{"$f":"【入力フォーム】!B63","v":0},null,null,{"$f":"【入力フォーム】!B64","v":0},null,null,null,null,null,null,null,null,null,null,{"$f":"【入力フォーム】!B65","v":0},null,null,"名",{"$f":"【入力フォーム】!G65","v":0},null,{"$f":"【入力フォーム】!B66","v":0}]
[null,null,null,"（",{"$f":"【入力フォーム】!F62","v":""},null,"曜日）"]
["開始時間",null,null,{"$f":"IF(【入力フォーム】!G62=\"\",\"\",【入力フォーム】!G62)","v":""}]
[]
[]
["この欄には記入しないでください。",null,null,null,null,null,null,null,null,null,null,null,null,null,null,null,null,null,null,null,null,null,null,null,null,null,null,null,null,null,"受付印"]
[null,"1. 使用を許可する。",null,null,null,null,null,null,null,"2. 使用を許可しない。"]
[null,null,null,null,null,null,null,null,null,null,"（理由）"]
["備考"]
[]
[]
[null,"事務局長",null,null,null,null,"主　　任",null,null,null,null,"担 当 者"]
[]
[]
[null,null,null,null,null,null,null,null,null,null,null,null,null,null,null,null,null,null,null,null,null,null,null,null,null,null,null,null,null,null,"予約番号"]

{"sheet":"区役所控（不要）","index":3,"n_rows":57,"n_cols":41,"rows_kept":57,"cut":false,"hidden":false,"merged":[[52,1,52,5],[52,6,52,10],[52,11,52,15],[52,16,52,19],[47,0,47,40],[46,0,46,40],[48,0,48,40],[49,0,49,40],[41,6,41,7],[45,0,45,40],[42,0,42,2],[42,3,42,7],[40,25,42,25],[40,28,42,40],[40,11,42,21],[40,22,42,24],[40,0,40,2],[40,8,42,10],[41,4,41,5],[39,0,39,2],[39,3,39,7],[35,4,35,5],[35,6,35,7],[37,11,39,21],[37,22,39,24],[40,26,42,27],[37,28,39,40],[38,4,38,5],[38,6,38,7],[34,26,36,27],[34,11,36,21],[37,26,39,27],[37,25,39,25],[34,0,34,2],[37,0,37,2],[34,8,36,10],[37,8,39,10],[31,28,33,40],[28,28,30,40],[27,8,27,10],[28,26,30,27],[30,0,30,2],[30,3,30,7],[31,8,33,10],[34,28,36,40],[34,22,36,24],[34,25,36,25],[31,25,33,25],[31,26,33,27],[29,4,29,5],[33,0,33,2],[33,3,33,7],[36,0,36,2],[36,3,36,7],[31,22,33,24],[32,4,32,5],[32,6,32,7],[31,11,33,21],[28,0,28,2],[31,0,31,2],[21,0,24,7],[21,8,21,13],[21,14,22,40],[22,8,22,13],[23,8,24,13],[23,14,24,40],[29,6,29,7],[28,11,30,21],[28,22,30,24],[28,25,30,25],[28,8,30,10],[27,0,27,7],[27,11,27,21],[27,22,27,25],[27,28,27,40],[27,26,27,27],[18,8,20,11],[18,12,20,27],[19,29,19,30],[19,31,19,39],[15,8,17,11],[15,29,15,32],[15,38,15,39],[16,29,16,30],[16,31,16,39],[17,29,17,30],[17,31,17,39],[0,3,1,37],[15,12,17,27],[2,35,2,36],[2,38,2,39],[4,0,4,40],[6,0,14,7],[6,8,6,11],[6,12,6,40],[7,8,8,11],[7,12,8,40],[9,8,9,11],[9,12,9,27],[10,8,11,11],[10,12,11,27],[10,29,10,32],[10,38,10,39],[12,8,14,11],[12,13,12,27],[12,29,12,30],[12,31,12,39],[13,12,14,27],[13,29,13,30],[13,31,13,39],[2,28,2,33]]}
[null,null,null,"区役所附設会館使用申込書（区役所控）"]
[]
["（一財）大阪市コミュニティ協会　理事長　様",null,null,null,null,null,null,null,null,null,null,null,null,null,null,null,null,null,null,null,null,null,null,null,null,null,null,null,{"$f":"【入力フォーム】!B6&\" \"&【入力フォーム】!C6","v":"西暦 "},null,null,null,null,null,"年",{"$f":"【入力フォーム】!E6","v":0},null,"月",{"$f":"【入力フォーム】!G6","v":0},null,"日"]
[]
["　次のとおり浪速区民センターの使用を申込みます。使用にあたっては、管理上の規定を守るとともに、使用中に発生した一切の責任は当方において負います。なお、申込内容と使用内容が異なると認められる場合使用許可を取り消されても、異議ありません。"]
[]
["団体・個人",null,null,null,null,null,null,null,"フリガナ",null,null,null,{"$f":"【入力フォーム】!B8","v":0}]
[null,null,null,null,null,null,null,null,"名　称",null,null,null,{"$f":"【入力フォーム】!B9","v":0}]
[]
[null,null,null,null,null,null,null,null,"フリガナ",null,null,null,{"$f":"【入力フォーム】!B10","v":0}]
[null,null,null,null,null,null,null,null,"代表者氏名",null,null,null,{"$f":"【入力フォーム】!B11","v":0},null,null,null,null,null,null,null,null,null,null,null,null,null,null,null,"（",{"$f":"【入力フォーム】!B12","v":0},null,null,null,{"$f":"【入力フォーム】!C12","v":0},"年",{"$f":"【入力フォーム】!E12","v":0},"月",{"$f":"【入力フォーム】!G12","v":0},"日生",null,"）"]
[]
[null,null,null,null,null,null,null,null,"所在地",null,null,null,"〒",{"$f":"【入力フォーム】!D13","v":0},null,null,null,null,null,null,null,null,null,null,null,null,null,null,"（","電話",null,{"$f":"【入力フォーム】!B15","v":0},null,null,null,null,null,null,null,null,"）"]
[null,null,null,null,null,null,null,null,null,null,null,null,{"$f":"【入力フォーム】!B14","v":0},null,null,null,null,null,null,null,null,null,null,null,null,null,null,null,"（","FAX",null,{"$f":"【入力フォーム】!B16","v":0},null,null,null,null,null,null,null,null,"）"]
[null,null,null,null,null,null,null,null,null,null,null,null,null,null,null,null,null,null,null,null,null,null,null,null,null,null,null,null,null,null,"※返信用FAX番号"]
["申 請 者",null,null,null,null,null,null,null,"氏　名",null,null,null,{"$f":"【入力フォーム】!B17","v":0},null,null,null,null,null,null,null,null,null,null,null,null,null,null,null,"（",{"$f":"【入力フォーム】!B19","v":0},null,null,null,{"$f":"【入力フォーム】!C19","v":0},"年",{"$f":"【入力フォーム】!E19","v":0},"月",{"$f":"【入力フォーム】!G19","v":0},"日生",null,"）"]
[null,"代表者と同じ",null,null,null,null,null,null,null,null,null,null,null,null,null,null,null,null,null,null,null,null,null,null,null,null,null,null,"（","電話",null,{"$f":"【入力フォーム】!B20","v":0},null,null,null,null,null,null,null,null,"）"]
[]
["当日責任者",null,null,null,null,null,null,null,"氏　名",null,null,null,{"$f":"【入力フォーム】!B21","v":0}]
[null,"代表者と同じ",null,null,null,null,null,null,null,null,null,null,null,null,null,null,null,null,null,null,null,null,null,null,null,null,null,null,"（","電話",null,{"$f":"【入力フォーム】!B24","v":0},null,null,null,null,null,null,null,null,"）"]
[null,"申請者と同じ"]
["使用目的",null,null,null,null,null,null,null,"行　事　名　称",null,null,null,null,null,{"$f":"【入力フォーム】!B25","v":0}]
[null,null,null,null,null,null,null,null,"（案内板の表示名称）"]
[null,null,null,null,null,null,null,null,"内　　　　容",null,null,null,null,null,{"$f":"【入力フォーム】!B26","v":0}]
[]
[null,null,null,null,"※使用時間について"]
[null,null,null,null,null,"【午前】午前9時30分～午後0時30分",null,null,null,null,null,null,null,null,null,null,null,null,"【午後】午後1時～午後5時",null,null,null,null,null,null,null,null,null,"【夜間】午後5時30分～午後9時30分"]
["使用年月日",null,null,null,null,null,null,null,"使用時間",null,null,"使用室名",null,null,null,null,null,null,null,null,null,null,"使用人員",null,null,null,"入場料",null,"附属設備・備考"]
[{"$f":"'【提出書類】（ＦＡＸ申込プリントアウト用）'!A30:C30","v":0},null,null,"年",{"$f":"【入力フォーム】!D30","v":0},"月",{"$f":"【入力フォーム】!E30","v":0},"日",{"$f":"【入力フォーム】!B31","v":0},null,null,{"$f":"【入力フォーム】!B32","v":0},null,null,null,null,null,null,null,null,null,null,{"$f":"【入力フォーム】!B33","v":0},null,null,"名",{"$f":"【入力フォーム】!G33","v":0},null,{"$f":"【入力フォーム】!B34","v":0}]
[null,null,null,"（",{"$f":"【入力フォーム】!F30","v":""},null,"曜日）"]
["開始時間",null,null,{"$f":"'【提出書類】（ＦＡＸ申込プリントアウト用）'!D32:H32","v":""}]
[{"$f":"'【提出書類】（ＦＡＸ申込プリントアウト用）'!A33:C33","v":0},null,null,"年",{"$f":"【入力フォーム】!D38","v":0},"月",{"$f":"【入力フォーム】!E38","v":0},"日",{"$f":"【入力フォーム】!B39","v":0},null,null,{"$f":"【入力フォーム】!B40","v":0},null,null,null,null,null,null,null,null,null,null,{"$f":"【入力フォーム】!B41","v":0},null,null,"名",{"$f":"【入力フォーム】!G41","v":0},null,{"$f":"【入力フォーム】!B42","v":0}]
[null,null,null,"（",{"$f":"【入力フォーム】!F38","v":""},null,"曜日）"]
["開始時間",null,null,{"$f":"'【提出書類】（ＦＡＸ申込プリントアウト用）'!D35:H35","v":""}]
[{"$f":"'【提出書類】（ＦＡＸ申込プリントアウト用）'!A36:C36","v":0},null,null,"年",{"$f":"【入力フォーム】!D46","v":0},"月",{"$f":"【入力フォーム】!E46","v":0},"日",{"$f":"【入力フォーム】!B47","v":0},null,null,{"$f":"【入力フォーム】!B48","v":0},null,null,null,null,null,null,null,null,null,null,{"$f":"【入力フォーム】!B49","v":0},null,null,"名",{"$f":"【入力フォーム】!G49","v":0},null,{"$f":"【入力フォーム】!B50","v":0}]
[null,null,null,"（",{"$f":"【入力フォーム】!F46","v":""},null,"曜日）"]
["開始時間",null,null,{"$f":"'【提出書類】（ＦＡＸ申込プリントアウト用）'!D38:H38","v":""}]
[{"$f":"'【提出書類】（ＦＡＸ申込プリントアウト用）'!A39:C39","v":0},null,null,"年",{"$f":"【入力フォーム】!D54","v":0},"月",{"$f":"【入力フォーム】!E54","v":0},"日",{"$f":"【入力フォーム】!B55","v":0},null,null,{"$f":"【入力フォーム】!B56","v":0},null,null,null,null,null,null,null,null,null,null,{"$f":"【入力フォーム】!B57","v":0},null,null,"名",{"$f":"【入力フォーム】!G57","v":0},null,{"$f":"【入力フォーム】!B58","v":0}]
[null,null,null,"（",{"$f":"【入力フォーム】!F54","v":""},null,"曜日）"]
["開始時間",null,null,{"$f":"'【提出書類】（ＦＡＸ申込プリントアウト用）'!D41:H41","v":""}]
[{"$f":"'【提出書類】（ＦＡＸ申込プリントアウト用）'!A42:C42","v":0},null,null,"年",{"$f":"【入力フォーム】!D62","v":0},"月",{"$f":"【入力フォーム】!E62","v":0},"日",{"$f":"【入力フォーム】!B63","v":0},null,null,{"$f":"【入力フォーム】!B64","v":0},null,null,null,null,null,null,null,null,null,null,{"$f":"【入力フォーム】!B65","v":0},null,null,"名",{"$f":"【入力フォーム】!G65","v":0},null,{"$f":"【入力フォーム】!B66","v":0}]
[null,null,null,"（",{"$f":"【入力フォーム】!F62","v":""},null,"曜日）"]
["開始時間",null,null,{"$f":"'【提出書類】（ＦＡＸ申込プリントアウト用）'!D44:H44","v":""}]
[]
[]
[]
[]
[]
[]
[]
[]
[]
[]
[]
[]
[]
[null,null,null,null,null,null,null,null,null,null,null,null,null,null,null,null,null,null,null,null,null,null,null,null,null,null,null,null,null,null,"予約番号"]

{"sheet":"申請者控（不要）","index":4,"n_rows":54,"n_cols":41,"rows_kept":54,"cut":false,"hidden":false,"merged":[[45,3,47,40],[49,0,49,2],[49,3,50,40],[51,26,51,40],[40,28,42,40],[41,4,41,5],[41,6,41,7],[42,0,42,2],[42,3,42,7],[45,0,45,2],[40,8,42,10],[40,11,42,21],[40,22,42,24],[40,25,42,25],[40,26,42,27],[40,0,40,2],[37,25,39,25],[37,26,39,27],[37,28,39,40],[38,4,38,5],[38,6,38,7],[34,11,36,21],[34,22,36,24],[34,25,36,25],[34,26,36,27],[39,0,39,2],[39,3,39,7],[37,0,37,2],[34,0,34,2],[31,26,33,27],[34,28,36,40],[35,4,35,5],[35,6,35,7],[36,0,36,2],[36,3,36,7],[31,8,33,10],[31,11,33,21],[31,22,33,24],[31,25,33,25],[34,8,36,10],[31,28,33,40],[32,4,32,5],[32,6,32,7],[33,0,33,2],[33,3,33,7],[31,0,31,2],[37,8,39,10],[37,11,39,21],[37,22,39,24],[21,0,24,7],[21,8,21,13],[21,14,22,40],[22,8,22,13],[23,8,24,13],[28,11,30,21],[28,22,30,24],[28,25,30,25],[28,26,30,27],[28,0,28,2],[27,0,27,7],[27,8,27,10],[27,11,27,21],[27,22,27,25],[27,26,27,27],[28,28,30,40],[29,4,29,5],[29,6,29,7],[30,0,30,2],[30,3,30,7],[23,14,24,40],[28,8,30,10],[15,8,17,11],[15,12,17,27],[15,29,15,32],[15,38,15,39],[16,29,16,30],[16,31,16,39],[27,28,27,40],[18,8,20,11],[18,12,20,27],[19,29,19,30],[19,31,19,39],[17,29,17,30],[17,31,17,39],[0,3,1,37],[2,35,2,36],[2,38,2,39],[4,0,4,40],[2,28,2,33],[6,0,14,7],[6,8,6,11],[6,12,6,40],[7,8,8,11],[7,12,8,40],[9,8,9,11],[9,12,9,27],[10,8,11,11],[10,12,11,27],[10,29,10,32],[10,38,10,39],[12,8,14,11],[12,13,12,27],[12,29,12,30],[12,31,12,39],[13,12,14,27],[13,29,13,30],[13,31,13,39]]}
[null,null,null,"区役所附設会館使用申込書（申請者控）"]
[]
["（一財）大阪市コミュニティ協会　理事長　様",null,null,null,null,null,null,null,null,null,null,null,null,null,null,null,null,null,null,null,null,null,null,null,null,null,null,null,{"$f":"【入力フォーム】!B6&\" \"&【入力フォーム】!C6","v":"西暦 "},null,null,null,null,null,"年",{"$f":"【入力フォーム】!E6","v":0},null,"月",{"$f":"【入力フォーム】!G6","v":0},null,"日"]
[]
["　次のとおり浪速区民センターの使用を申込みます。使用にあたっては、管理上の規定を守るとともに、使用中に発生した一切の責任は当方において負います。なお、申込内容と使用内容が異なると認められる場合使用許可を取り消されても、異議ありません。"]
[]
["団体・個人",null,null,null,null,null,null,null,"フリガナ",null,null,null,{"$f":"【入力フォーム】!B8","v":0}]
[null,null,null,null,null,null,null,null,"名　称",null,null,null,{"$f":"【入力フォーム】!B9","v":0}]
[]
[null,null,null,null,null,null,null,null,"フリガナ",null,null,null,{"$f":"【入力フォーム】!B10","v":0}]
[null,null,null,null,null,null,null,null,"代表者氏名",null,null,null,{"$f":"【入力フォーム】!B11","v":0},null,null,null,null,null,null,null,null,null,null,null,null,null,null,null,"（",{"$f":"【入力フォーム】!B12","v":0},null,null,null,{"$f":"【入力フォーム】!C12","v":0},"年",{"$f":"【入力フォーム】!E12","v":0},"月",{"$f":"【入力フォーム】!G12","v":0},"日生",null,"）"]
[]
[null,null,null,null,null,null,null,null,"所在地",null,null,null,"〒",{"$f":"【入力フォーム】!D13","v":0},null,null,null,null,null,null,null,null,null,null,null,null,null,null,"（","電話",null,{"$f":"【入力フォーム】!B15","v":0},null,null,null,null,null,null,null,null,"）"]
[null,null,null,null,null,null,null,null,null,null,null,null,{"$f":"【入力フォーム】!B14","v":0},null,null,null,null,null,null,null,null,null,null,null,null,null,null,null,"（","FAX",null,{"$f":"【入力フォーム】!B16","v":0},null,null,null,null,null,null,null,null,"）"]
[null,null,null,null,null,null,null,null,null,null,null,null,null,null,null,null,null,null,null,null,null,null,null,null,null,null,null,null,null,null,"※返信用FAX番号"]
["申 請 者",null,null,null,null,null,null,null,"氏　名",null,null,null,{"$f":"【入力フォーム】!B17","v":0},null,null,null,null,null,null,null,null,null,null,null,null,null,null,null,"（",{"$f":"【入力フォーム】!B19","v":0},null,null,null,{"$f":"【入力フォーム】!C19","v":0},"年",{"$f":"【入力フォーム】!E19","v":0},"月",{"$f":"【入力フォーム】!G19","v":0},"日生",null,"）"]
[null,"代表者と同じ",null,null,null,null,null,null,null,null,null,null,null,null,null,null,null,null,null,null,null,null,null,null,null,null,null,null,"（","電話",null,{"$f":"【入力フォーム】!B20","v":0},null,null,null,null,null,null,null,null,"）"]
[]
["当日責任者",null,null,null,null,null,null,null,"氏　名",null,null,null,{"$f":"【入力フォーム】!B21","v":0}]
[null,"代表者と同じ",null,null,null,null,null,null,null,null,null,null,null,null,null,null,null,null,null,null,null,null,null,null,null,null,null,null,"（","電話",null,{"$f":"【入力フォーム】!B24","v":0},null,null,null,null,null,null,null,null,"）"]
[null,"申請者と同じ"]
["使用目的",null,null,null,null,null,null,null,"行　事　名　称",null,null,null,null,null,{"$f":"【入力フォーム】!B25","v":0}]
[null,null,null,null,null,null,null,null,"（案内板の表示名称）"]
[null,null,null,null,null,null,null,null,"内　　　　容",null,null,null,null,null,{"$f":"【入力フォーム】!B26","v":0}]
[]
[null,null,null,null,"※使用時間について"]
[null,null,null,null,null,"【午前】午前9時30分～午後0時30分",null,null,null,null,null,null,null,null,null,null,null,null,"【午後】午後1時～午後5時",null,null,null,null,null,null,null,null,null,"【夜間】午後5時30分～午後9時30分"]
["使用年月日",null,null,null,null,null,null,null,"使用時間",null,null,"使用室名",null,null,null,null,null,null,null,null,null,null,"使用人員",null,null,null,"入場料",null,"附属設備・備考"]
[{"$f":"'【提出書類】（ＦＡＸ申込プリントアウト用）'!A30:C30","v":0},null,null,"年",{"$f":"【入力フォーム】!D30","v":0},"月",{"$f":"【入力フォーム】!E30","v":0},"日",{"$f":"【入力フォーム】!B31","v":0},null,null,{"$f":"【入力フォーム】!B32","v":0},null,null,null,null,null,null,null,null,null,null,{"$f":"【入力フォーム】!B33","v":0},null,null,"名",{"$f":"【入力フォーム】!G33","v":0},null,{"$f":"【入力フォーム】!B34","v":0}]
[null,null,null,"（",{"$f":"【入力フォーム】!F30","v":""},null,"曜日）"]
["開始時間",null,null,{"$f":"'【提出書類】（ＦＡＸ申込プリントアウト用）'!D32:H32","v":""}]
[{"$f":"'【提出書類】（ＦＡＸ申込プリントアウト用）'!A33:C33","v":0},null,null,"年",{"$f":"【入力フォーム】!D38","v":0},"月",{"$f":"【入力フォーム】!E38","v":0},"日",{"$f":"【入力フォーム】!B39","v":0},null,null,{"$f":"【入力フォーム】!B40","v":0},null,null,null,null,null,null,null,null,null,null,{"$f":"【入力フォーム】!B41","v":0},null,null,"名",{"$f":"【入力フォーム】!G41","v":0},null,{"$f":"【入力フォーム】!B42","v":0}]
[null,null,null,"（",{"$f":"【入力フォーム】!F38","v":""},null,"曜日）"]
["開始時間",null,null,{"$f":"'【提出書類】（ＦＡＸ申込プリントアウト用）'!D35:H35","v":""}]
[{"$f":"'【提出書類】（ＦＡＸ申込プリントアウト用）'!A36:C36","v":0},null,null,"年",{"$f":"【入力フォーム】!D46","v":0},"月",{"$f":"【入力フォーム】!E46","v":0},"日",{"$f":"【入力フォーム】!B47","v":0},null,null,{"$f":"【入力フォーム】!B48","v":0},null,null,null,null,null,null,null,null,null,null,{"$f":"【入力フォーム】!B49","v":0},null,null,"名",{"$f":"【入力フォーム】!G49","v":0},null,{"$f":"【入力フォーム】!B50","v":0}]
[null,null,null,"（",{"$f":"【入力フォーム】!F46","v":""},null,"曜日）"]
["開始時間",null,null,{"$f":"'【提出書類】（ＦＡＸ申込プリントアウト用）'!D38:H38","v":""}]
[{"$f":"'【提出書類】（ＦＡＸ申込プリントアウト用）'!A39:C39","v":0},null,null,"年",{"$f":"【入力フォーム】!D54","v":0},"月",{"$f":"【入力フォーム】!E54","v":0},"日",{"$f":"【入力フォーム】!B55","v":0},null,null,{"$f":"【入力フォーム】!B56","v":0},null,null,null,null,null,null,null,null,null,null,{"$f":"【入力フォーム】!B57","v":0},null,null,"名",{"$f":"【入力フォーム】!G57","v":0},null,{"$f":"【入力フォーム】!B58","v":0}]
[null,null,null,"（",{"$f":"【入力フォーム】!F54","v":""},null,"曜日）"]
["開始時間",null,null,{"$f":"'【提出書類】（ＦＡＸ申込プリントアウト用）'!D41:H41","v":""}]
[{"$f":"'【提出書類】（ＦＡＸ申込プリントアウト用）'!A42:C42","v":0},null,null,"年",{"$f":"【入力フォーム】!D62","v":0},"月",{"$f":"【入力フォーム】!E62","v":0},"日",{"$f":"【入力フォーム】!B63","v":0},null,null,{"$f":"【入力フォーム】!B64","v":0},null,null,null,null,null,null,null,null,null,null,{"$f":"【入力フォーム】!B65","v":0},null,null,"名",{"$f":"【入力フォーム】!G65","v":0},null,{"$f":"【入力フォーム】!B66","v":0}]
[null,null,null,"（",{"$f":"【入力フォーム】!F62","v":""},null,"曜日）"]
["開始時間",null,null,{"$f":"'【提出書類】（ＦＡＸ申込プリントアウト用）'!D44:H44","v":""}]
[]
[]
["（※１）",null,null,"暴力団の利益になる使用は許可しません。また、使用許可後に暴力団の利益になる使用であることが判明したときは、使用許可の取消等を行います。上記事由を確認する必要がある場合には、条例に基づき大阪府警察本部に照会することがあります。\n大阪市コミュニティ振興施設条例の条文をご参照ください。"]
[]
[]
[]
["（※２）",null,null,"個人情報保護法に基づき、ご記入いただいた内容は会館使用申込のためにのみ使用し、法令等に定めがある場合をのぞき、その他の目的のために使用したり、第三者に提供することはいたしません。"]
[]
[null,null,null,null,null,null,null,null,null,null,null,null,null,null,null,null,null,null,null,null,null,null,null,null,null,null,"（一財） 大阪市コミュニティ協会 理事長"]
[]
[null,null,null,null,null,null,null,null,null,null,null,null,null,null,null,null,null,null,null,null,null,null,null,null,null,null,null,null,null,null,"予約番号"]